BEGIN:VCALENDAR
VERSION:2.0
PRODID:-//NACC - Northern Agricultural Catchments Council - ECPv5.3.0//NONSGML v1.0//EN
CALSCALE:GREGORIAN
METHOD:PUBLISH
X-WR-CALNAME:NACC - Northern Agricultural Catchments Council
X-ORIGINAL-URL:https://www.nacc.com.au
X-WR-CALDESC:Events for NACC - Northern Agricultural Catchments Council
BEGIN:VTIMEZONE
TZID:Australia/Perth
BEGIN:STANDARD
TZOFFSETFROM:+0800
TZOFFSETTO:+0800
TZNAME:AWST
DTSTART:20210101T000000
END:STANDARD
END:VTIMEZONE
BEGIN:VEVENT
DTSTART;VALUE=DATE:20210307
DTEND;VALUE=DATE:20210308
DTSTAMP:20210226T173946
CREATED:20210208T070017Z
LAST-MODIFIED:20210208T070017Z
UID:28840-1615075200-1615161599@www.nacc.com.au
SUMMARY:Clean Up Australia Day 2021
DESCRIPTION:
URL:https://www.nacc.com.au/event/clean-up-australia-day-2021/
CATEGORIES:Biodiversity,Coastal & Marine,Recycle
ATTACH;FMTTYPE=image/png:https://www.nacc.com.au/wp-content/uploads/2021/02/Poster-Lime-Green.png
END:VEVENT
BEGIN:VEVENT
DTSTART;TZID=Australia/Perth:20210309T090000
DTEND;TZID=Australia/Perth:20210309T130000
DTSTAMP:20210226T173946
CREATED:20210225T072913Z
LAST-MODIFIED:20210225T072913Z
UID:28889-1615280400-1615294800@www.nacc.com.au
SUMMARY:Native Grasses Workshop
DESCRIPTION:
URL:https://www.nacc.com.au/event/native-grasses-workshop/
LOCATION:Perenjori Sport Pavillion\, Perenjori\, Western Australia\, Australia
CATEGORIES:Biodiversity,Sustainable Farming
ATTACH;FMTTYPE=image/png:https://www.nacc.com.au/wp-content/uploads/2021/02/Native-Grasses-Workshop-1-1.png
END:VEVENT
BEGIN:VEVENT
DTSTART;TZID=Australia/Perth:20210311T090000
DTEND;TZID=Australia/Perth:20210311T170000
DTSTAMP:20210226T173946
CREATED:20210225T072714Z
LAST-MODIFIED:20210225T072714Z
UID:28886-1615453200-1615482000@www.nacc.com.au
SUMMARY:Precision Agriculture Workshops
DESCRIPTION:
URL:https://www.nacc.com.au/event/precision-agriculture-workshops/
CATEGORIES:Sustainable Farming
ATTACH;FMTTYPE=image/png:https://www.nacc.com.au/wp-content/uploads/2021/02/Precision-Ag-Workshops-1.png
END:VEVENT
BEGIN:VEVENT
DTSTART;TZID=Australia/Perth:20210315T090000
DTEND;TZID=Australia/Perth:20210315T123000
DTSTAMP:20210226T173946
CREATED:20210225T072233Z
LAST-MODIFIED:20210225T072248Z
UID:28882-1615798800-1615811400@www.nacc.com.au
SUMMARY:Soil Carbon Roadshow
DESCRIPTION:
URL:https://www.nacc.com.au/event/soil-carbon-roadshow/
CATEGORIES:Sustainable Farming
ATTACH;FMTTYPE=image/png:https://www.nacc.com.au/wp-content/uploads/2021/02/Soil-Carbon-Roadshow-v3-1.png
END:VEVENT
BEGIN:VEVENT
DTSTART;TZID=Australia/Perth:20210328T163000
DTEND;TZID=Australia/Perth:20210328T193000
DTSTAMP:20210226T173946
CREATED:20210225T054114Z
LAST-MODIFIED:20210225T054114Z
UID:28879-1616949000-1616959800@www.nacc.com.au
SUMMARY:Great Cocky Count
DESCRIPTION:
URL:https://www.nacc.com.au/event/great-cocky-count/
CATEGORIES:Biodiversity
ATTACH;FMTTYPE=image/png:https://www.nacc.com.au/wp-content/uploads/2021/02/Great-Cocky-Count-2021-v2.png
END:VEVENT
BEGIN:VEVENT
DTSTART;TZID=Australia/Perth:20210726T080000
DTEND;TZID=Australia/Perth:20210726T170000
DTSTAMP:20210226T173946
CREATED:20210113T055312Z
LAST-MODIFIED:20210113T055411Z
UID:28760-1627286400-1627318800@www.nacc.com.au
SUMMARY:Natural Sequence Farming Workshop
DESCRIPTION:  \n \n26-29 July 2021 \nThis course is a practical\, hands-on workshop that will show you how to read a landscape and develop your skills to reinstate its natural functions. \n 
URL:https://www.nacc.com.au/event/natural-sequence-farming-workshop/
LOCATION:Wooleen Station\, Murchison\, WA\, Australia
CATEGORIES:Sustainable Farming
ATTACH;FMTTYPE=image/jpeg:https://www.nacc.com.au/wp-content/uploads/2021/01/TPT_Learn-NSF-Wooleen-Station.jpg
END:VEVENT
BEGIN:VEVENT
DTSTART;TZID=Australia/Perth:20210907T080000
DTEND;TZID=Australia/Perth:20210910T170000
DTSTAMP:20210226T173946
CREATED:20200730T063358Z
LAST-MODIFIED:20200730T063558Z
UID:28198-1631001600-1631293200@www.nacc.com.au
SUMMARY:National Malleefowl & WA Threatened Species Forum 2021
DESCRIPTION:More information to be announced!
URL:https://www.nacc.com.au/event/national-malleefowl-wa-threatened-species-forum-2021/
LOCATION:Western Australia\, Australia
CATEGORIES:Biodiversity
ATTACH;FMTTYPE=image/png:https://www.nacc.com.au/wp-content/uploads/2020/07/TSF-2021-FB_INSTA.png
ORGANIZER;CN="NACC":MAILTO:nacc@nacc.com.au
END:VEVENT
END:VCALENDAR